BEGIN:VCALENDAR
VERSION:2.0
PRODID:-//Slovenská komora psychológov - ECPv6.2.0.1//NONSGML v1.0//EN
CALSCALE:GREGORIAN
METHOD:PUBLISH
X-ORIGINAL-URL:https://www.komorapsychologov.sk
X-WR-CALDESC:Udalosti pre Slovenská komora psychológov
REFRESH-INTERVAL;VALUE=DURATION:PT1H
X-Robots-Tag:noindex
X-PUBLISHED-TTL:PT1H
BEGIN:VTIMEZONE
TZID:Europe/Bratislava
BEGIN:DAYLIGHT
TZOFFSETFROM:+0100
TZOFFSETTO:+0200
TZNAME:CEST
DTSTART:20260329T010000
END:DAYLIGHT
BEGIN:STANDARD
TZOFFSETFROM:+0200
TZOFFSETTO:+0100
TZNAME:CET
DTSTART:20261025T010000
END:STANDARD
END:VTIMEZONE
BEGIN:VEVENT
DTSTART;TZID=Europe/Bratislava:20260223T183000
DTEND;TZID=Europe/Bratislava:20260223T200000
DTSTAMP:20260425T232110
CREATED:20260119T191014Z
LAST-MODIFIED:20260119T191014Z
UID:4182-1771871400-1771876800@www.komorapsychologov.sk
SUMMARY:Zasadnutie Sekcie klinickej psychológie 23.2.2026
DESCRIPTION:Vážené kolegyne\, vážení kolegovia \nPozývame Vás zasadnutie odbornej sekcie\, ktoré sa uskutoční v pondelok 23.2.2026 v čase od 18:30 do 20:00. \nPripojenie na zasadnutie\nNa zasadnutie sa pripojíte cez odkaz odoslaný v e-mailovej pozvánke alebo cez intranet sekcie po prihlásení sa do svojho konta. \nAk sa chcete chcete stať súčasťou odbornej sekcie\, dostávať informácie e-mailovým newsletterom\, pristupovať na jej intranet a zúčastňovať sa jej zasadnutí\, vyplňte si online prihlášku ako člen alebo hosť sekcie.
URL:https://www.komorapsychologov.sk/event/zasadnutie-sekcie-klinickej-psychologie-23-2-2026/
LOCATION:Online
CATEGORIES:Akcie komory
END:VEVENT
END:VCALENDAR