BEGIN:VCALENDAR
VERSION:2.0
PRODID:-//Slovenská komora psychológov - ECPv6.2.0.1//NONSGML v1.0//EN
CALSCALE:GREGORIAN
METHOD:PUBLISH
X-WR-CALNAME:Slovenská komora psychológov
X-ORIGINAL-URL:https://www.komorapsychologov.sk
X-WR-CALDESC:Udalosti pre Slovenská komora psychológov
REFRESH-INTERVAL;VALUE=DURATION:PT1H
X-Robots-Tag:noindex
X-PUBLISHED-TTL:PT1H
BEGIN:VTIMEZONE
TZID:Europe/Bratislava
BEGIN:DAYLIGHT
TZOFFSETFROM:+0100
TZOFFSETTO:+0200
TZNAME:CEST
DTSTART:20260329T010000
END:DAYLIGHT
BEGIN:STANDARD
TZOFFSETFROM:+0200
TZOFFSETTO:+0100
TZNAME:CET
DTSTART:20261025T010000
END:STANDARD
END:VTIMEZONE
BEGIN:VEVENT
DTSTART;TZID=Europe/Bratislava:20260401T130000
DTEND;TZID=Europe/Bratislava:20260401T143000
DTSTAMP:20260425T214521
CREATED:20251210T220702Z
LAST-MODIFIED:20260223T214016Z
UID:4130-1775048400-1775053800@www.komorapsychologov.sk
SUMMARY:Zasadnutie Sekcie detskej klinickej psychológie
DESCRIPTION:Vážené kolegyne\, vážení kolegovia \nPozývame Vás na zasadnutie odbornej sekcie\, ktoré sa uskutoční v stredu 1.4.2026 v čase od 13:00 do 14:30. \nPripojenie na zasadnutie\nNa zasadnutie sa pripojíte cez odkaz odoslaný v e-mailovej pozvánke alebo cez intranet sekcie po prihlásení sa do svojho konta. \nAk sa chcete chcete stať súčasťou odbornej sekcie\, dostávať informácie e-mailovým newsletterom\, pristupovať na jej intranet a zúčastňovať sa jej zasadnutí\, vyplňte si online prihlášku ako člen alebo hosť sekcie.
URL:https://www.komorapsychologov.sk/event/zasadnutie-sekcie-detskej-klinickej-psychologie-1-4-2026/
LOCATION:Online
CATEGORIES:Akcie komory
END:VEVENT
END:VCALENDAR