BEGIN:VCALENDAR
VERSION:2.0
PRODID:-//Slovenská komora psychológov - ECPv6.2.0.1//NONSGML v1.0//EN
CALSCALE:GREGORIAN
METHOD:PUBLISH
X-ORIGINAL-URL:https://www.komorapsychologov.sk
X-WR-CALDESC:Udalosti pre Slovenská komora psychológov
REFRESH-INTERVAL;VALUE=DURATION:PT1H
X-Robots-Tag:noindex
X-PUBLISHED-TTL:PT1H
BEGIN:VTIMEZONE
TZID:Europe/Bratislava
BEGIN:DAYLIGHT
TZOFFSETFROM:+0100
TZOFFSETTO:+0200
TZNAME:CEST
DTSTART:20260329T010000
END:DAYLIGHT
BEGIN:STANDARD
TZOFFSETFROM:+0200
TZOFFSETTO:+0100
TZNAME:CET
DTSTART:20261025T010000
END:STANDARD
END:VTIMEZONE
BEGIN:VEVENT
DTSTART;VALUE=DATE:20260417
DTEND;VALUE=DATE:20260419
DTSTAMP:20260425T230809
CREATED:20260130T204456Z
LAST-MODIFIED:20260130T204456Z
UID:4194-1776384000-1776556799@www.komorapsychologov.sk
SUMMARY:ROR I – Méreiho prístup Signovanie s úvodom do interpretácie\, štatistickej a klinickej významnosti znakov
DESCRIPTION:Teoretická časť: Východiská práce s metódou. Administrácia\, inštrukcia\, protokolovanie a signovanie znakov v 5 stĺpcoch. Kvantifikátory a kvalifikátory znakov\, ukazovateľov ROR. \nPraktická časť: Získanie praktických zručností signovania a základov interpretácie na protokoloch z praxe účastníkov vzdelávania. Štatistická a klinická významnosť znakov a ich kombinácie. Nozošpecifické znaky. Znaky závažnosti psychopatológie a osobnostnej patológie. Znaky špecifické pre pacienta. \nOdborný garant: PhDr. Etela Mišaničová\nLektori: PhDr. Etela Mišaničová\, doc. Mgr. art. Jaroslava Gajdošíková Zeleiová\, PhD.\nTermíny: 17.-18. 04. 2026 | 22.-23. 05. 2026 | 05.-06. 06. 2026 | 25.-26. 09. 2026\nPočet kreditov: 60 pre každý modul\nPočet miest: min. 12 \nPrihlášky do 31.03.2026  Rorschach – klinicka-psychologia.eu/kurzy/ \nBližšie informácie:\nmisanicova@centrum.sk | klinickapsychologia.sk
URL:https://www.komorapsychologov.sk/event/ror-i-mereiho-pristup-signovanie-s-uvodom-do-interpretacie-statistickej-a-klinickej-vyznamnosti-znakov/
LOCATION:Bratislava\, Bratislava\, Slovenská republika
CATEGORIES:Vzdelávanie
END:VEVENT
END:VCALENDAR