BEGIN:VCALENDAR
VERSION:2.0
PRODID:-//Slovenská komora psychológov - ECPv6.2.0.1//NONSGML v1.0//EN
CALSCALE:GREGORIAN
METHOD:PUBLISH
X-WR-CALNAME:Slovenská komora psychológov
X-ORIGINAL-URL:https://www.komorapsychologov.sk
X-WR-CALDESC:Udalosti pre Slovenská komora psychológov
REFRESH-INTERVAL;VALUE=DURATION:PT1H
X-Robots-Tag:noindex
X-PUBLISHED-TTL:PT1H
BEGIN:VTIMEZONE
TZID:Europe/Bratislava
BEGIN:DAYLIGHT
TZOFFSETFROM:+0100
TZOFFSETTO:+0200
TZNAME:CEST
DTSTART:20260329T010000
END:DAYLIGHT
BEGIN:STANDARD
TZOFFSETFROM:+0200
TZOFFSETTO:+0100
TZNAME:CET
DTSTART:20261025T010000
END:STANDARD
END:VTIMEZONE
BEGIN:VEVENT
DTSTART;TZID=Europe/Bratislava:20260424T100000
DTEND;TZID=Europe/Bratislava:20260424T130000
DTSTAMP:20260425T225025
CREATED:20260409T190424Z
LAST-MODIFIED:20260409T190424Z
UID:4417-1777024800-1777035600@www.komorapsychologov.sk
SUMMARY:Vzdelávanie v supervíznych kompetenciách klinických psychológov
DESCRIPTION:Online vzdelávanie klinických psychológov a odborných garantov zdravotníckych zariadení (VA20260XX) v supervízii klinickopsychologickej činnosti\, iniciované a odborne garantované Sekciou Klinickej psychológie SKP (PhDr. Mišaničová Etelka\, odborný garant)\, v rámci sústavného vzdelávania zdravotníckych pracovníkov.
URL:https://www.komorapsychologov.sk/event/vzdelavanie-v-superviznych-kompetenciach-klinickych-psychologov/
LOCATION:Online
CATEGORIES:Akcie komory,Vzdelávanie
END:VEVENT
BEGIN:VEVENT
DTSTART;TZID=Europe/Bratislava:20260424T133000
DTEND;TZID=Europe/Bratislava:20260424T150000
DTSTAMP:20260425T225025
CREATED:20260323T193315Z
LAST-MODIFIED:20260323T193315Z
UID:4412-1777037400-1777042800@www.komorapsychologov.sk
SUMMARY:Zasadnutie Sekcie neuropsychológie
DESCRIPTION:Vážené kolegyne\, vážení kolegovia \nPozývame Vás na zasadnutie odbornej sekcie\, ktoré sa uskutoční v piatok 24.4.2026 v čase od 13:30 do 15:00. \nPripojenie na zasadnutie\nNa zasadnutie sa pripojíte cez odkaz odoslaný v e-mailovej pozvánke alebo cez intranet sekcie po prihlásení sa do svojho konta. \nAk sa chcete chcete stať súčasťou odbornej sekcie\, dostávať informácie e-mailovým newsletterom\, pristupovať na jej intranet a zúčastňovať sa jej zasadnutí\, vyplňte si online prihlášku ako člen alebo hosť sekcie.
URL:https://www.komorapsychologov.sk/event/zasadnutie-sekcie-neuropsychologie-24-4-2026/
LOCATION:Online
CATEGORIES:Akcie komory
END:VEVENT
END:VCALENDAR