BEGIN:VCALENDAR
VERSION:2.0
PRODID:-//Slovenská komora psychológov - ECPv6.2.0.1//NONSGML v1.0//EN
CALSCALE:GREGORIAN
METHOD:PUBLISH
X-ORIGINAL-URL:https://www.komorapsychologov.sk
X-WR-CALDESC:Udalosti pre Slovenská komora psychológov
REFRESH-INTERVAL;VALUE=DURATION:PT1H
X-Robots-Tag:noindex
X-PUBLISHED-TTL:PT1H
BEGIN:VTIMEZONE
TZID:Europe/Bratislava
BEGIN:DAYLIGHT
TZOFFSETFROM:+0100
TZOFFSETTO:+0200
TZNAME:CEST
DTSTART:20260329T010000
END:DAYLIGHT
BEGIN:STANDARD
TZOFFSETFROM:+0200
TZOFFSETTO:+0100
TZNAME:CET
DTSTART:20261025T010000
END:STANDARD
END:VTIMEZONE
BEGIN:VEVENT
DTSTART;TZID=Europe/Bratislava:20260302T180000
DTEND;TZID=Europe/Bratislava:20260302T190000
DTSTAMP:20260425T215940
CREATED:20260223T180517Z
LAST-MODIFIED:20260223T214028Z
UID:4301-1772474400-1772478000@www.komorapsychologov.sk
SUMMARY:Zasadnutie Sekcie dopravnej psychológie
DESCRIPTION:Vážené kolegyne\, vážení kolegovia \nPozývame Vás zasadnutie odbornej sekcie\, ktoré sa uskutoční v pondelok 2.3.2026 v čase od 18:00 do 19:00. \nPripojenie na zasadnutie\nNa zasadnutie sa pripojíte cez odkaz odoslaný v e-mailovej pozvánke alebo cez intranet sekcie po prihlásení sa do svojho konta. \nAk sa chcete chcete stať súčasťou odbornej sekcie\, dostávať informácie e-mailovým newsletterom\, pristupovať na jej intranet a zúčastňovať sa jej zasadnutí\, vyplňte si online prihlášku ako člen alebo hosť sekcie.
URL:https://www.komorapsychologov.sk/event/zasadnutie-sekcie-dopravnej-psychologie-2-3-2026/
LOCATION:Online
CATEGORIES:Akcie komory
END:VEVENT
BEGIN:VEVENT
DTSTART;TZID=Europe/Bratislava:20260312T183000
DTEND;TZID=Europe/Bratislava:20260312T200000
DTSTAMP:20260425T215940
CREATED:20260118T105426Z
LAST-MODIFIED:20260308T192912Z
UID:4172-1773340200-1773345600@www.komorapsychologov.sk
SUMMARY:Zasadnutie Sekcie psychoterapie
DESCRIPTION:Vážené kolegyne\, vážení kolegovia \nPozývame Vás na zasadnutie odbornej sekcie\, ktoré sa uskutoční 12.3.2026 v čase od 18:30 do 20:00. \nPripojenie na zasadnutie\nNa zasadnutie sa pripojíte cez odkaz odoslaný v e-mailovej pozvánke alebo cez intranet sekcie po prihlásení sa do svojho konta. \nAk sa chcete chcete stať súčasťou odbornej sekcie\, dostávať informácie e-mailovým newsletterom\, pristupovať na jej intranet a zúčastňovať sa jej zasadnutí\, vyplňte si online prihlášku ako člen alebo hosť sekcie.
URL:https://www.komorapsychologov.sk/event/zasadnutie-sekcie-psychoterapie-12-3-2026/
LOCATION:Online
CATEGORIES:Akcie komory
END:VEVENT
BEGIN:VEVENT
DTSTART;TZID=Europe/Bratislava:20260318T180000
DTEND;TZID=Europe/Bratislava:20260318T190000
DTSTAMP:20260425T215940
CREATED:20260316T191623Z
LAST-MODIFIED:20260316T191623Z
UID:4334-1773856800-1773860400@www.komorapsychologov.sk
SUMMARY:Zasadnutie Sekcie liečby závislostí
DESCRIPTION:Vážené kolegyne\, vážení kolegovia \nPozývame Vás zasadnutie sekcie\, ktoré sa uskutoční v stredu 18.3.2026 v čase od 18:00 do 19:00. \nPripojenie na zasadnutie\nNa zasadnutie sa pripojíte cez odkaz odoslaný v e-mailovej pozvánke alebo cez intranet sekcie po prihlásení sa do svojho konta. \nAk sa chcete chcete stať súčasťou odbornej sekcie\, dostávať informácie e-mailovým newsletterom\, pristupovať na jej intranet a zúčastňovať sa jej zasadnutí\, vyplňte si online prihlášku ako člen alebo hosť sekcie.
URL:https://www.komorapsychologov.sk/event/zasadnutie-sekcie-liecby-zavislosti-18-3-2026/
LOCATION:Online
CATEGORIES:Akcie komory
END:VEVENT
BEGIN:VEVENT
DTSTART;TZID=Europe/Bratislava:20260320T133000
DTEND;TZID=Europe/Bratislava:20260320T150000
DTSTAMP:20260425T215940
CREATED:20260125T103147Z
LAST-MODIFIED:20260223T214020Z
UID:4191-1774013400-1774018800@www.komorapsychologov.sk
SUMMARY:Zasadnutie Sekcie neuropsychológie
DESCRIPTION:Vážené kolegyne\, vážení kolegovia \nPozývame Vás na zasadnutie odbornej sekcie\, ktoré sa uskutoční v piatok 20.3.2026 v čase od 13:30 do 15:00. \nPripojenie na zasadnutie\nNa zasadnutie sa pripojíte cez odkaz odoslaný v e-mailovej pozvánke alebo cez intranet sekcie po prihlásení sa do svojho konta. \nAk sa chcete chcete stať súčasťou odbornej sekcie\, dostávať informácie e-mailovým newsletterom\, pristupovať na jej intranet a zúčastňovať sa jej zasadnutí\, vyplňte si online prihlášku ako člen alebo hosť sekcie.
URL:https://www.komorapsychologov.sk/event/zasadnutie-sekcie-neuropsychologie-20-3-2026/
LOCATION:Online
CATEGORIES:Akcie komory
END:VEVENT
BEGIN:VEVENT
DTSTART;TZID=Europe/Bratislava:20260323T183000
DTEND;TZID=Europe/Bratislava:20260323T200000
DTSTAMP:20260425T215940
CREATED:20260223T193015Z
LAST-MODIFIED:20260223T213913Z
UID:4303-1774290600-1774296000@www.komorapsychologov.sk
SUMMARY:Zasadnutie Sekcie klinickej psychológie
DESCRIPTION:Vážené kolegyne\, vážení kolegovia \nPozývame Vás zasadnutie odbornej sekcie\, ktoré sa uskutoční v pondelok 23.3.2026 v čase od 18:30 do 20:00. \nPripojenie na zasadnutie\nNa zasadnutie sa pripojíte cez odkaz odoslaný v e-mailovej pozvánke alebo cez intranet sekcie po prihlásení sa do svojho konta. \nAk sa chcete chcete stať súčasťou odbornej sekcie\, dostávať informácie e-mailovým newsletterom\, pristupovať na jej intranet a zúčastňovať sa jej zasadnutí\, vyplňte si online prihlášku ako člen alebo hosť sekcie.
URL:https://www.komorapsychologov.sk/event/zasadnutie-sekcie-klinickej-psychologie-23-3-2026/
LOCATION:Online
CATEGORIES:Akcie komory
END:VEVENT
BEGIN:VEVENT
DTSTART;TZID=Europe/Bratislava:20260330T183000
DTEND;TZID=Europe/Bratislava:20260330T193000
DTSTAMP:20260425T215940
CREATED:20260323T193512Z
LAST-MODIFIED:20260323T193512Z
UID:4414-1774895400-1774899000@www.komorapsychologov.sk
SUMMARY:Zasadnutie Sekcie poradenskej psychológie
DESCRIPTION:Vážené kolegyne\, vážení kolegovia \nPozývame Vás zasadnutie odbornej sekcie\, ktoré sa uskutoční v pondelok 30.3.2026 v čase od 18:30 do 19:30. \nPripojenie na zasadnutie\nNa zasadnutie sa pripojíte cez odkaz odoslaný v e-mailovej pozvánke alebo cez intranet sekcie po prihlásení sa do svojho konta. \nAk sa chcete chcete stať súčasťou odbornej sekcie\, dostávať informácie e-mailovým newsletterom\, pristupovať na jej intranet a zúčastňovať sa jej zasadnutí\, vyplňte si online prihlášku ako člen alebo hosť sekcie.
URL:https://www.komorapsychologov.sk/event/zasadnutie-sekcie-poradenskej-psychologie-30-3-2026/
LOCATION:Online
END:VEVENT
END:VCALENDAR