BEGIN:VCALENDAR
VERSION:2.0
PRODID:-//Slovenská komora psychológov - ECPv6.2.0.1//NONSGML v1.0//EN
CALSCALE:GREGORIAN
METHOD:PUBLISH
X-ORIGINAL-URL:https://www.komorapsychologov.sk
X-WR-CALDESC:Udalosti pre Slovenská komora psychológov
REFRESH-INTERVAL;VALUE=DURATION:PT1H
X-Robots-Tag:noindex
X-PUBLISHED-TTL:PT1H
BEGIN:VTIMEZONE
TZID:Europe/Bratislava
BEGIN:DAYLIGHT
TZOFFSETFROM:+0100
TZOFFSETTO:+0200
TZNAME:CEST
DTSTART:20260329T010000
END:DAYLIGHT
BEGIN:STANDARD
TZOFFSETFROM:+0200
TZOFFSETTO:+0100
TZNAME:CET
DTSTART:20261025T010000
END:STANDARD
END:VTIMEZONE
BEGIN:VEVENT
DTSTART;TZID=Europe/Bratislava:20260424T100000
DTEND;TZID=Europe/Bratislava:20260424T130000
DTSTAMP:20260426T002450
CREATED:20260409T190424Z
LAST-MODIFIED:20260409T190424Z
UID:4417-1777024800-1777035600@www.komorapsychologov.sk
SUMMARY:Vzdelávanie v supervíznych kompetenciách klinických psychológov
DESCRIPTION:Online vzdelávanie klinických psychológov a odborných garantov zdravotníckych zariadení (VA20260XX) v supervízii klinickopsychologickej činnosti\, iniciované a odborne garantované Sekciou Klinickej psychológie SKP (PhDr. Mišaničová Etelka\, odborný garant)\, v rámci sústavného vzdelávania zdravotníckych pracovníkov.
URL:https://www.komorapsychologov.sk/event/vzdelavanie-v-superviznych-kompetenciach-klinickych-psychologov/
LOCATION:Online
CATEGORIES:Akcie komory,Vzdelávanie
END:VEVENT
BEGIN:VEVENT
DTSTART;TZID=Europe/Bratislava:20260424T133000
DTEND;TZID=Europe/Bratislava:20260424T150000
DTSTAMP:20260426T002450
CREATED:20260323T193315Z
LAST-MODIFIED:20260323T193315Z
UID:4412-1777037400-1777042800@www.komorapsychologov.sk
SUMMARY:Zasadnutie Sekcie neuropsychológie
DESCRIPTION:Vážené kolegyne\, vážení kolegovia \nPozývame Vás na zasadnutie odbornej sekcie\, ktoré sa uskutoční v piatok 24.4.2026 v čase od 13:30 do 15:00. \nPripojenie na zasadnutie\nNa zasadnutie sa pripojíte cez odkaz odoslaný v e-mailovej pozvánke alebo cez intranet sekcie po prihlásení sa do svojho konta. \nAk sa chcete chcete stať súčasťou odbornej sekcie\, dostávať informácie e-mailovým newsletterom\, pristupovať na jej intranet a zúčastňovať sa jej zasadnutí\, vyplňte si online prihlášku ako člen alebo hosť sekcie.
URL:https://www.komorapsychologov.sk/event/zasadnutie-sekcie-neuropsychologie-24-4-2026/
LOCATION:Online
CATEGORIES:Akcie komory
END:VEVENT
BEGIN:VEVENT
DTSTART;TZID=Europe/Bratislava:20260513T173000
DTEND;TZID=Europe/Bratislava:20260513T183000
DTSTAMP:20260426T002450
CREATED:20260424T183814Z
LAST-MODIFIED:20260424T183814Z
UID:4457-1778693400-1778697000@www.komorapsychologov.sk
SUMMARY:Zasadnutie Sekcie poradenskej psychológie
DESCRIPTION:Vážené kolegyne\, vážení kolegovia \nPozývame Vás zasadnutie odbornej sekcie\, ktoré sa uskutoční v pondelok 13.5.2026 v čase od 17:30 do 18:30. \nPripojenie na zasadnutie\nNa zasadnutie sa pripojíte cez odkaz odoslaný v e-mailovej pozvánke alebo cez intranet sekcie po prihlásení sa do svojho konta. \nAk sa chcete chcete stať súčasťou odbornej sekcie\, dostávať informácie e-mailovým newsletterom\, pristupovať na jej intranet a zúčastňovať sa jej zasadnutí\, vyplňte si online prihlášku ako člen alebo hosť sekcie.
URL:https://www.komorapsychologov.sk/event/zasadnutie-sekcie-poradenskej-psychologie-13-5-2026/
LOCATION:Online
CATEGORIES:Akcie komory
END:VEVENT
BEGIN:VEVENT
DTSTART;TZID=Europe/Bratislava:20260514T183000
DTEND;TZID=Europe/Bratislava:20260514T200000
DTSTAMP:20260426T002450
CREATED:20260312T215453Z
LAST-MODIFIED:20260312T215453Z
UID:4332-1778783400-1778788800@www.komorapsychologov.sk
SUMMARY:Zasadnutie Sekcie psychoterapie
DESCRIPTION:Vážené kolegyne\, vážení kolegovia \nPozývame Vás na zasadnutie odbornej sekcie\, ktoré sa uskutoční 14.5.2026 v čase od 18:30 do 20:00. \nPripojenie na zasadnutie\nNa zasadnutie sa pripojíte cez odkaz odoslaný v e-mailovej pozvánke alebo cez intranet sekcie po prihlásení sa do svojho konta. \nAk sa chcete chcete stať súčasťou odbornej sekcie\, dostávať informácie e-mailovým newsletterom\, pristupovať na jej intranet a zúčastňovať sa jej zasadnutí\, vyplňte si online prihlášku ako člen alebo hosť sekcie.
URL:https://www.komorapsychologov.sk/event/zasadnutie-sekcie-psychoterapie-14-5-2026/
LOCATION:Online
CATEGORIES:Akcie komory
END:VEVENT
BEGIN:VEVENT
DTSTART;TZID=Europe/Bratislava:20260525T180000
DTEND;TZID=Europe/Bratislava:20260525T190000
DTSTAMP:20260426T002450
CREATED:20260302T213213Z
LAST-MODIFIED:20260302T213213Z
UID:4321-1779732000-1779735600@www.komorapsychologov.sk
SUMMARY:Zasadnutie Sekcie dopravnej psychológie
DESCRIPTION:Vážené kolegyne\, vážení kolegovia \nPozývame Vás zasadnutie odbornej sekcie\, ktoré sa uskutoční v pondelok 25.5.2026 v čase od 18:00 do 19:00. \nPripojenie na zasadnutie\nNa zasadnutie sa pripojíte cez odkaz odoslaný v e-mailovej pozvánke alebo cez intranet sekcie po prihlásení sa do svojho konta. \nAk sa chcete chcete stať súčasťou odbornej sekcie\, dostávať informácie e-mailovým newsletterom\, pristupovať na jej intranet a zúčastňovať sa jej zasadnutí\, vyplňte si online prihlášku ako člen alebo hosť sekcie.
URL:https://www.komorapsychologov.sk/event/zasadnutie-sekcie-dopravnej-psychologie/
LOCATION:Online
CATEGORIES:Akcie komory
END:VEVENT
BEGIN:VEVENT
DTSTART;TZID=Europe/Bratislava:20260608T183000
DTEND;TZID=Europe/Bratislava:20260608T200000
DTSTAMP:20260426T002450
CREATED:20260420T204024Z
LAST-MODIFIED:20260420T204024Z
UID:4455-1780943400-1780948800@www.komorapsychologov.sk
SUMMARY:Zasadnutie Sekcie klinickej psychológie
DESCRIPTION:Vážené kolegyne\, vážení kolegovia \nPozývame Vás zasadnutie odbornej sekcie\, ktoré sa uskutoční v pondelok 8.6.2026 v čase od 18:30 do 20:00. \nPripojenie na zasadnutie\nNa zasadnutie sa pripojíte cez odkaz odoslaný v e-mailovej pozvánke alebo cez intranet sekcie po prihlásení sa do svojho konta. \nAk sa chcete chcete stať súčasťou odbornej sekcie\, dostávať informácie e-mailovým newsletterom\, pristupovať na jej intranet a zúčastňovať sa jej zasadnutí\, vyplňte si online prihlášku ako člen alebo hosť sekcie.
URL:https://www.komorapsychologov.sk/event/zasadnutie-sekcie-klinickej-psychologie-8-6-2026/
LOCATION:Online
CATEGORIES:Akcie komory
END:VEVENT
BEGIN:VEVENT
DTSTART;VALUE=DATE:20261015
DTEND;VALUE=DATE:20261017
DTSTAMP:20260426T002450
CREATED:20260410T182549Z
LAST-MODIFIED:20260410T182549Z
UID:4419-1792022400-1792195199@www.komorapsychologov.sk
SUMMARY:Klinicko psychologické dni 2026
DESCRIPTION:Základné informácie\nTermín: 15. – 16. október 2026 (štvrtok – piatok)  \nČas: 09:00 – 17:30\nMiesto: Spoločenská sála Pinelovej nemocnice\, Pezinok\nKapacita: 180 miest\nKredity:\n– pasívna účasť – 16 kreditov\n– aktívna účasť – 20 kreditov\n\nFormát a program konferencie\nTento rok rozširujeme podujatie na dvojdňový formát\, aby sme vytvorili viac priestoru pre prednášky\, odbornú diskusiu aj praktické aktivity. Prednášky budú mať rozšírený časový rámec 30 – 45 minút.\n\nDo programu plánujeme zaradiť aj praktické workshopy\, najmä:\n– psychodiagnostické kazuistické semináre\,\n– krízovú intervenciu\,\n– vybrané terapeutické techniky.\n\nProgram aktuálne finalizujeme a radi Vás preto vyzývame na nahlásenie aktívnych účastí do 31.7.2026 (viac informácií nižšie).\n\nPotvrdení hostia:\n– Jana Warren (Prezidentka Českej spoločnosti pre ROR\, Praha): TAT v diferenciálnej diagnostike: prístup Francúzskej školy\n– Václav Šnorek (České Budějovice) ponúka viacero tém\, napr. Príprava českej adaptácie WAIS‑5\, Kultúrne špecifické poruchy\, Hľadanie rovnováhy pri psychologickej diagnostike\n– Tím z Budapešti: prednáška o Rorschachovskom systéme R‑PAS\, metaanalytické štúdie a integrácia diagnostických prístupov\n\nRegistrácia\nRegistrovať sa môžete na stránke www.kpkonferencia.sk alebo priamo cez tento registračný formulár:\nhttps://docs.google.com/forms/d/e/1FAIpQLSdqzrXeHup_ieHx1GJI7jrLhlGUJJSpXZpGu1jvyA67PxwS6Q/viewform\n\nUzávierka prihlášok na aktívnu účasť: 31. 7. 2026\n\nCenník\nPoplatok zahŕňa odborný program\, dva obedy\, občerstvenie počas coffee breakov\, kredity a darčekové predmety.\n\nPrihlásenie do 31. 8. 2026\nČlen SKP:\n– pasívny účastník: 99 €\n– aktívny účastník: 49 €\n\nNečlen SKP:\n– pasívny účastník: 119 €\n– aktívny účastník: 59 €\n\nŠtudent:\n– pasívny účastník: 69 €\n– aktívny účastník: zdarma\n\nPrihlásenie od 1. 9. 2026\nČlen SKP:\n– pasívny účastník: 129 €\n\nNečlen SKP:\n– pasívny účastník: 149 €\n\nŠtudent:\n– pasívny účastník: 89 €\n\nSpoločenský večer\nVo štvrtok večer Vás srdečne pozývame aj na slávnostný raut\, ktorý bude príležitosťou na neformálny networking.\nNa raut sa prihlasuje osobitne; predpokladaná cena je cca 40 €. Bližšie informácie doplníme podľa záujmu. Účasť môžete potvrdiť v registračnom formulári.\n\nVšetky ďalšie informácie vrátane programu budeme priebežne zverejňovať na našom webe. Informovať sa môžte aj na tejto emailovej adrese:: kontakt@kpkonferencia.sk
URL:https://www.komorapsychologov.sk/event/klinicko-psychologicke-dni-2026/
LOCATION:Pezinok\, Pezinok\, Slovenská republika
CATEGORIES:Akcie komory,Konferencia
END:VEVENT
END:VCALENDAR